BEGIN:VCALENDAR
VERSION:2.0
PRODID:-//Ichthus Christian Fellowship - ECPv6.15.18//NONSGML v1.0//EN
CALSCALE:GREGORIAN
METHOD:PUBLISH
X-ORIGINAL-URL:https://ichthus.org.uk
X-WR-CALDESC:Events for Ichthus Christian Fellowship
REFRESH-INTERVAL;VALUE=DURATION:PT1H
X-Robots-Tag:noindex
X-PUBLISHED-TTL:PT1H
BEGIN:VTIMEZONE
TZID:UTC
BEGIN:STANDARD
TZOFFSETFROM:+0000
TZOFFSETTO:+0000
TZNAME:UTC
DTSTART:20250101T000000
END:STANDARD
END:VTIMEZONE
BEGIN:VEVENT
DTSTART;TZID=UTC:20260523T140000
DTEND;TZID=UTC:20260523T170000
DTSTAMP:20260420T055321
CREATED:20260327T154114Z
LAST-MODIFIED:20260327T155543Z
UID:10889-1779544800-1779555600@ichthus.org.uk
SUMMARY:Jesus March
DESCRIPTION:WHAT is it?\nThe Jesus March is a joyous\, hopeful celebration of Jesus in London. The global movement of March for Jesus\, which began in London in 1987\, has continued around parts of the world and recently begun again across Europe. We are inviting you to join us as we relaunch March for Jesus in London this Pentecost weekend – this time called the Jesus March. \nWHERE and when IS IT?\nThe Jesus March will take place in central London. The route (pending police confirmation) is from Marble Arch and along Piccadilly\, following a joyful mobile worship team on a float. We will end with an extended time of worship and prayer in Trafalgar Square. \nThe march starts at 2pm on Saturday 23 May\, finishing at 5pm. \nCAN I GET INVOLVED?\nOf course you can! The Jesus March is for everyone. We would love to see the beauty of the breadth\, depth and racial diversity of the UK church expressed in the Jesus March. It would really help our planning if we know who is intending to be a part of the Jesus March 2026. \n\nSave the date: Make sure you’ve put 23 May in your and your church’s diary.\nRegister your interest: Let us know you’re coming. To help with stewarding and first aid requirements\, we are asking churches who are bringing 25 or more people to commit to bringing a group marshal (steward) and one qualified first-aider who would attend pre-event briefings.
URL:https://ichthus.org.uk/event/jesus-march/
ATTACH;FMTTYPE=image/png:https://ichthus.org.uk/wp-content/uploads/2026/03/NoticePowerPoint-Size-.png
END:VEVENT
BEGIN:VEVENT
DTSTART;TZID=UTC:20260628T150000
DTEND;TZID=UTC:20260705T170000
DTSTAMP:20260420T055321
CREATED:20250424T182602Z
LAST-MODIFIED:20260326T143620Z
UID:10505-1782658800-1783270800@ichthus.org.uk
SUMMARY:Summer Project
DESCRIPTION:The Summer Project\nIs an intensive training course\, offering a challenging teaching programme together with practical experience of evangelism in London. It’s seven days packed full of outreach\, worship\, ministry and teaching with sessions from Ichthus leaders and special guests. Deepen your understanding of the theology of mission in the context of a lively church and gaining practical experience as faith is translated into action!
URL:https://ichthus.org.uk/event/summer-project/
LOCATION:Prayer House\, 118 Perry Vale\, London\, SE23 2JB
ATTACH;FMTTYPE=image/png:https://ichthus.org.uk/wp-content/uploads/2026/03/Webpage-AD-Summer-Project-2025.png
END:VEVENT
BEGIN:VEVENT
DTSTART;VALUE=DATE:20260801
DTEND;VALUE=DATE:20260809
DTSTAMP:20260420T055321
CREATED:20251104T163021Z
LAST-MODIFIED:20260311T170245Z
UID:10779-1785542400-1786233599@ichthus.org.uk
SUMMARY:Revive 2026
DESCRIPTION:Revive\n\n\nRevive is a unique Christian Holiday week retreat\, when Christians come  together to celebrate\, worship\, pray and share life in the name of Jesus. \nWe come from all over the UK and across the world. From different backgrounds\, communities and workplaces\, to spend time together – what brings us together is the banner of Jesus that we are flying together. \nRevive is a place where God is encountered\, lives are restored and relationships are deepened. Plus\, there’s lots of time and opportunity for fun and relaxation! \nThere’s a sports programme including family treasure hunts. Relax and be entertained at Café Ash. Organise games or a church barbeque on the campsite. Roll up\, roll up to Wednesday’s village fête. Explore acres of beautifully landscaped grounds. Everyone loves Revive – from age 0–100. There are programme streams for babies\, toddlers\, children\, youth\, young adults ……… and older adults. \nThis could be the best week of your life. And your children’s lives. And your children’s children’s lives! \nHealings. Miracles. Answered prayers. Prophetic words. Holy Spirit baptism. Oppressive situations broken. We have seen God faithfully show His salvation power year after year at Revive. And with a continuous stream of prayer\, worship and ministry throughout the week\, there are so many opportunities to receive God’s salvation work in every area of your life. As Paul writes in 2 Corinthians 6\, ‘Now is “the day of salvation!”’
URL:https://ichthus.org.uk/event/revive-2026/
LOCATION:Asburnham Place\, TN33 9NF
ATTACH;FMTTYPE=image/png:https://ichthus.org.uk/wp-content/uploads/2025/11/Revive-2026-Church-on-Fire-Programme-Artwork.png
END:VEVENT
END:VCALENDAR