BEGIN:VCALENDAR
VERSION:2.0
PRODID:-//Ichthus Christian Fellowship - ECPv6.15.18//NONSGML v1.0//EN
CALSCALE:GREGORIAN
METHOD:PUBLISH
X-WR-CALNAME:Ichthus Christian Fellowship
X-ORIGINAL-URL:https://ichthus.org.uk
X-WR-CALDESC:Events for Ichthus Christian Fellowship
REFRESH-INTERVAL;VALUE=DURATION:PT1H
X-Robots-Tag:noindex
X-PUBLISHED-TTL:PT1H
BEGIN:VTIMEZONE
TZID:UTC
BEGIN:STANDARD
TZOFFSETFROM:+0000
TZOFFSETTO:+0000
TZNAME:UTC
DTSTART:20250101T000000
END:STANDARD
END:VTIMEZONE
BEGIN:VEVENT
DTSTART;TZID=UTC:20260106T100000
DTEND;TZID=UTC:20260108T213000
DTSTAMP:20260420T055729
CREATED:20250312T114348Z
LAST-MODIFIED:20251217T124353Z
UID:10338-1767693600-1767907800@ichthus.org.uk
SUMMARY:New Year Prayer and Fasting 2026
DESCRIPTION:Gather together to pray and fast in the month of January \n6th-8th January 2026 \n10am-12pm & 8pm-9:30pm at the Prayer House \n 
URL:https://ichthus.org.uk/event/upper-sixth-bunch/
LOCATION:ichthus prayer house
ATTACH;FMTTYPE=image/png:https://ichthus.org.uk/wp-content/uploads/2025/03/NoticePowerPoint-Size-.png
END:VEVENT
BEGIN:VEVENT
DTSTART;TZID=UTC:20260123T140000
DTEND;TZID=UTC:20260124T160000
DTSTAMP:20260420T055729
CREATED:20241107T132541Z
LAST-MODIFIED:20251120T170830Z
UID:9957-1769176800-1769270400@ichthus.org.uk
SUMMARY:Link Leaders Conference 2026
DESCRIPTION:We are excited to announce the theme for The Ichthus Link Leader’s Conference – ‘Watchmen\, Wolves and Wisdom’.  We deeply treasure the spiritual agreements and friendships we have with link churches and leaders across the UK\, and as our Link Church family steadily grows we need you there! \n\nOur God gives VISION to those who seek him. As many more people surrender their lives to Jesus in these days\, God is looking  for Habakkuk-type leaders who make the time to say:\n“I will stand on my guard post\, and station myself on the rampart; \nAnd I will keep watch to see what He will speak to me\, and how I may reply when I am reproved”. (Hab 2:1) \nHow can we grow as prophetic watchmen and watchwomen in these days together? Let’s be a people who continue to stand together in prayer (Eph 4:16)\, with vision (Ezekiel 33:7) and with HIS heart for the people we lead. \n\nThe watcher sees what God reveals\, and also sees the flock of sheep around them\, so ‘…be on guard for yourselves and for all the flock\, among which the Holy Spirit has made you overseers\, to shepherd the church of God which He purchased with His own blood’ (Acts 20:28). With eyes wide open\, let’s use our conference together to be renewed in genuine pastoral ministry that is full of church wisdom (Eph 3:10) and victory over the wolves of the enemy (Acts 20:29). \n\nAs God leads us forward in the advance of his kingdom\, let’s shake off all discouragements of this world and come into the flow of love from the Great Shepherd Himself (Eze 34:11).\nThis conference is by invitation only.  If you are interested in attending please email conferences@ichthus.org.uk or call 0208 694 7171
URL:https://ichthus.org.uk/event/link-leaders-conference-2026/
LOCATION:De Vere Horsley Estate\, Ockham Rd South\, East Horsley\, Leatherhead\, KT24 6DT
ATTACH;FMTTYPE=image/png:https://ichthus.org.uk/wp-content/uploads/2025/11/LLC-2026-Watchmen-Wolves-Wisdom-Acts-2025-35.png
END:VEVENT
END:VCALENDAR