BEGIN:VCALENDAR
VERSION:2.0
PRODID:-//Ichthus Christian Fellowship - ECPv6.15.18//NONSGML v1.0//EN
CALSCALE:GREGORIAN
METHOD:PUBLISH
X-ORIGINAL-URL:https://ichthus.org.uk
X-WR-CALDESC:Events for Ichthus Christian Fellowship
REFRESH-INTERVAL;VALUE=DURATION:PT1H
X-Robots-Tag:noindex
X-PUBLISHED-TTL:PT1H
BEGIN:VTIMEZONE
TZID:UTC
BEGIN:STANDARD
TZOFFSETFROM:+0000
TZOFFSETTO:+0000
TZNAME:UTC
DTSTART:20250101T000000
END:STANDARD
END:VTIMEZONE
BEGIN:VEVENT
DTSTART;TZID=UTC:20260303T110000
DTEND;TZID=UTC:20260305T140000
DTSTAMP:20260420T021931
CREATED:20241114T145454Z
LAST-MODIFIED:20251212T164633Z
UID:10009-1772535600-1772719200@ichthus.org.uk
SUMMARY:Worship Prayer and Fasting Conference
DESCRIPTION:3rd-5th March 2026 \nAshburnham Place \nThis conference is by invitation only \nSee here for more details
URL:https://ichthus.org.uk/event/worship-prayer-and-fasting-conference/
LOCATION:Ashburnham Place\, Battle\, TN33 9NF\, United Kingdom
ATTACH;FMTTYPE=image/png:https://ichthus.org.uk/wp-content/uploads/2025/12/NoticePowerPoint-Size-.png
END:VEVENT
END:VCALENDAR