BEGIN:VCALENDAR
VERSION:2.0
PRODID:-//Ichthus Christian Fellowship - ECPv6.15.18//NONSGML v1.0//EN
CALSCALE:GREGORIAN
METHOD:PUBLISH
X-WR-CALNAME:Ichthus Christian Fellowship
X-ORIGINAL-URL:https://ichthus.org.uk
X-WR-CALDESC:Events for Ichthus Christian Fellowship
REFRESH-INTERVAL;VALUE=DURATION:PT1H
X-Robots-Tag:noindex
X-PUBLISHED-TTL:PT1H
BEGIN:VTIMEZONE
TZID:UTC
BEGIN:STANDARD
TZOFFSETFROM:+0000
TZOFFSETTO:+0000
TZNAME:UTC
DTSTART:20250101T000000
END:STANDARD
END:VTIMEZONE
BEGIN:VEVENT
DTSTART;TZID=UTC:20260429T194500
DTEND;TZID=UTC:20260429T210000
DTSTAMP:20260420T000230
CREATED:20260327T162339Z
LAST-MODIFIED:20260410T124010Z
UID:10900-1777491900-1777496400@ichthus.org.uk
SUMMARY:Ichthus Fellowship Meeting
DESCRIPTION:The Ichthus Fellowship Meeting\n\n\n\n\n\nGather together at the Bonhoeffer\, from 7:45pm to find out \nWHO.. We Are \n\n\n\n\nWHAT.. We’re Doing \n\n\n\n\nWHY.. We’re Doing It \n\n\n\n\nHOW.. Can I Get Involved? \n\n\n\n\nPLUS they’ll be snacks! No need to RSVP\, just show up at the door. We look forward to seeing you! \n\n\n\n  \n\n\n  \n\n\n  \n\n\n 
URL:https://ichthus.org.uk/event/fellowship-meeting/
LOCATION:Dietrich Bonhoeffer Church\, 50 Dacres Rd\, London\, SE23 2NR
ATTACH;FMTTYPE=image/png:https://ichthus.org.uk/wp-content/uploads/2026/03/the-fellowship-meeting-1.png
END:VEVENT
END:VCALENDAR